BEGIN:VCALENDAR
VERSION:2.0
PRODID:-//Detroit Alumnae Chapter - Delta Sigma Theta Sorority, Inc. - ECPv6.15.15//NONSGML v1.0//EN
CALSCALE:GREGORIAN
METHOD:PUBLISH
X-ORIGINAL-URL:https://detroitdeltas.org
X-WR-CALDESC:Events for Detroit Alumnae Chapter - Delta Sigma Theta Sorority, Inc.
REFRESH-INTERVAL;VALUE=DURATION:PT1H
X-Robots-Tag:noindex
X-PUBLISHED-TTL:PT1H
BEGIN:VTIMEZONE
TZID:America/Detroit
BEGIN:DAYLIGHT
TZOFFSETFROM:-0500
TZOFFSETTO:-0400
TZNAME:EDT
DTSTART:20250309T070000
END:DAYLIGHT
BEGIN:STANDARD
TZOFFSETFROM:-0400
TZOFFSETTO:-0500
TZNAME:EST
DTSTART:20251102T060000
END:STANDARD
BEGIN:DAYLIGHT
TZOFFSETFROM:-0500
TZOFFSETTO:-0400
TZNAME:EDT
DTSTART:20260308T070000
END:DAYLIGHT
BEGIN:STANDARD
TZOFFSETFROM:-0400
TZOFFSETTO:-0500
TZNAME:EST
DTSTART:20261101T060000
END:STANDARD
BEGIN:DAYLIGHT
TZOFFSETFROM:-0500
TZOFFSETTO:-0400
TZNAME:EDT
DTSTART:20270314T070000
END:DAYLIGHT
BEGIN:STANDARD
TZOFFSETFROM:-0400
TZOFFSETTO:-0500
TZNAME:EST
DTSTART:20271107T060000
END:STANDARD
END:VTIMEZONE
BEGIN:VEVENT
DTSTART;VALUE=DATE:20260331
DTEND;VALUE=DATE:20260401
DTSTAMP:20260419T222205
CREATED:20260317T041519Z
LAST-MODIFIED:20260317T043538Z
UID:83089-1774915200-1775001599@detroitdeltas.org
SUMMARY:Black Childrens Book Drive
DESCRIPTION:A child who sees themselves in a book learns something powerful: their story matters.In honor of National Reading Month\, the Detroit Alumnae and Delta Psi chapters of Delta Sigma Theta Sorority\, Inc. are proud to collaborate on collecting Black children’s books for a DPSCD elementary school library. All young readers deserve to find themselves on the page. \nHere’s how you can participate: Shop at a Black-owned bookstore or any retailer of your choice and drop off your donation at one of the locations below. Can’t make a drop-off? Purchase a book directly from our Amazon Wish List at bit.ly/DSTBookDrive and it will be shipped directly to us. Drop-off locations and dates: March 17 | 6:13–7:30 p.m. | University of Detroit Mercy\, Engineering Bldg.\, Room 120 March 18 | 5:13–6:30 p.m. | U-M Dearborn\, College of Arts\, Sciences\, and Letters\, Room 1015 March 19 | 6:13–7:30 p.m. | University of Detroit Mercy\, Engineering Bldg.\, Room 140 March 21 | 11 a.m.–3 p.m. | DSTDFI Headquarters\, 24760 W. 7 Mile\, Detroit\, MI 48219Every book donated is an investment in a child’s imagination\, identity\, and future. Together\, we can build a love of literacy and a legacy of possibility — one book at a time. 
URL:https://detroitdeltas.org/event/black-childrens-book-drive/
LOCATION:MI
CATEGORIES:Public
ATTACH;FMTTYPE=image/jpeg:https://detroitdeltas.org/wp-content/uploads/2026/03/2026_blackbookdrive_flyer.jpg
END:VEVENT
BEGIN:VEVENT
DTSTART;TZID=America/Detroit:20260412T160000
DTEND;TZID=America/Detroit:20260412T173000
DTSTAMP:20260419T222205
CREATED:20260408T071549Z
LAST-MODIFIED:20260408T071549Z
UID:83109-1776009600-1776015000@detroitdeltas.org
SUMMARY:ART Discussion Forum
DESCRIPTION:
URL:https://detroitdeltas.org/event/art-discussion-forum/
LOCATION:Virtual Platform\, Detroit\, MI\, United States
CATEGORIES:Educational Development,Public
ATTACH;FMTTYPE=image/jpeg:https://detroitdeltas.org/wp-content/uploads/2026/04/666667529_1393763729452363_4276312834829605801_n.jpg
END:VEVENT
BEGIN:VEVENT
DTSTART;TZID=America/Detroit:20260419T150000
DTEND;TZID=America/Detroit:20260419T180000
DTSTAMP:20260419T222205
CREATED:20260211T153003Z
LAST-MODIFIED:20260211T153003Z
UID:83052-1776610800-1776621600@detroitdeltas.org
SUMMARY:42nd Annual Art Auction
DESCRIPTION:
URL:https://detroitdeltas.org/event/42nd-annual-art-auction/
LOCATION:DSTDFI Headquarters\, 24760 West 7 Mile Road\, Detroit\, MI\, 48219\, United States
CATEGORIES:Public
ATTACH;FMTTYPE=image/jpeg:https://detroitdeltas.org/wp-content/uploads/2026/02/632629154_1345805440914859_1401548034520968197_n.jpg
END:VEVENT
BEGIN:VEVENT
DTSTART;TZID=America/Detroit:20260517T150000
DTEND;TZID=America/Detroit:20260517T170000
DTSTAMP:20260419T222205
CREATED:20260317T043317Z
LAST-MODIFIED:20260317T043317Z
UID:83096-1779030000-1779037200@detroitdeltas.org
SUMMARY:2026 Delta Gems Open House
DESCRIPTION:
URL:https://detroitdeltas.org/event/2026-delta-gems-open-house/
LOCATION:DSTDFI Headquarters\, 24760 West 7 Mile Road\, Detroit\, MI\, 48219\, United States
CATEGORIES:Public
ATTACH;FMTTYPE=image/jpeg:https://detroitdeltas.org/wp-content/uploads/2026/03/2026_GemsEventFlyer.jpg
END:VEVENT
END:VCALENDAR