BEGIN:VCALENDAR
VERSION:2.0
PRODID:-//Detroit Alumnae Chapter - Delta Sigma Theta Sorority, Inc. - ECPv6.15.15//NONSGML v1.0//EN
CALSCALE:GREGORIAN
METHOD:PUBLISH
X-WR-CALNAME:Detroit Alumnae Chapter - Delta Sigma Theta Sorority, Inc.
X-ORIGINAL-URL:https://detroitdeltas.org
X-WR-CALDESC:Events for Detroit Alumnae Chapter - Delta Sigma Theta Sorority, Inc.
REFRESH-INTERVAL;VALUE=DURATION:PT1H
X-Robots-Tag:noindex
X-PUBLISHED-TTL:PT1H
BEGIN:VTIMEZONE
TZID:America/Detroit
BEGIN:DAYLIGHT
TZOFFSETFROM:-0500
TZOFFSETTO:-0400
TZNAME:EDT
DTSTART:20190310T070000
END:DAYLIGHT
BEGIN:STANDARD
TZOFFSETFROM:-0400
TZOFFSETTO:-0500
TZNAME:EST
DTSTART:20191103T060000
END:STANDARD
BEGIN:DAYLIGHT
TZOFFSETFROM:-0500
TZOFFSETTO:-0400
TZNAME:EDT
DTSTART:20200308T070000
END:DAYLIGHT
BEGIN:STANDARD
TZOFFSETFROM:-0400
TZOFFSETTO:-0500
TZNAME:EST
DTSTART:20201101T060000
END:STANDARD
BEGIN:DAYLIGHT
TZOFFSETFROM:-0500
TZOFFSETTO:-0400
TZNAME:EDT
DTSTART:20210314T070000
END:DAYLIGHT
BEGIN:STANDARD
TZOFFSETFROM:-0400
TZOFFSETTO:-0500
TZNAME:EST
DTSTART:20211107T060000
END:STANDARD
BEGIN:DAYLIGHT
TZOFFSETFROM:-0500
TZOFFSETTO:-0400
TZNAME:EDT
DTSTART:20220313T070000
END:DAYLIGHT
BEGIN:STANDARD
TZOFFSETFROM:-0400
TZOFFSETTO:-0500
TZNAME:EST
DTSTART:20221106T060000
END:STANDARD
BEGIN:DAYLIGHT
TZOFFSETFROM:-0500
TZOFFSETTO:-0400
TZNAME:EDT
DTSTART:20230312T070000
END:DAYLIGHT
BEGIN:STANDARD
TZOFFSETFROM:-0400
TZOFFSETTO:-0500
TZNAME:EST
DTSTART:20231105T060000
END:STANDARD
BEGIN:DAYLIGHT
TZOFFSETFROM:-0500
TZOFFSETTO:-0400
TZNAME:EDT
DTSTART:20240310T070000
END:DAYLIGHT
BEGIN:STANDARD
TZOFFSETFROM:-0400
TZOFFSETTO:-0500
TZNAME:EST
DTSTART:20241103T060000
END:STANDARD
BEGIN:DAYLIGHT
TZOFFSETFROM:-0500
TZOFFSETTO:-0400
TZNAME:EDT
DTSTART:20250309T070000
END:DAYLIGHT
BEGIN:STANDARD
TZOFFSETFROM:-0400
TZOFFSETTO:-0500
TZNAME:EST
DTSTART:20251102T060000
END:STANDARD
BEGIN:DAYLIGHT
TZOFFSETFROM:-0500
TZOFFSETTO:-0400
TZNAME:EDT
DTSTART:20260308T070000
END:DAYLIGHT
BEGIN:STANDARD
TZOFFSETFROM:-0400
TZOFFSETTO:-0500
TZNAME:EST
DTSTART:20261101T060000
END:STANDARD
END:VTIMEZONE
BEGIN:VEVENT
DTSTART;TZID=America/Detroit:20250927T090000
DTEND;TZID=America/Detroit:20250927T150000
DTSTAMP:20260419T235317
CREATED:20250924T154356Z
LAST-MODIFIED:20250924T154356Z
UID:82547-1758963600-1758985200@detroitdeltas.org
SUMMARY:Round Up 2025
DESCRIPTION:
URL:https://detroitdeltas.org/event/round-up-2025/
LOCATION:MI
CATEGORIES:SORORS ONLY
ATTACH;FMTTYPE=image/jpeg:https://detroitdeltas.org/wp-content/uploads/2025/09/IMG_1451.jpeg
END:VEVENT
BEGIN:VEVENT
DTSTART;TZID=America/Detroit:20210114T190000
DTEND;TZID=America/Detroit:20210114T200000
DTSTAMP:20260419T235318
CREATED:20201216T043028Z
LAST-MODIFIED:20201216T043028Z
UID:76714-1610650800-1610654400@detroitdeltas.org
SUMMARY:Taking the COVID-19 Vaccine
DESCRIPTION:Register Today: bit.ly/DACVaccineInfo
URL:https://detroitdeltas.org/event/taking-the-covid-19-vaccine/
LOCATION:Virtual Zoom Meeting\, MI\, United States
CATEGORIES:Physical & Mental Health,Public
ATTACH;FMTTYPE=image/jpeg:https://detroitdeltas.org/wp-content/uploads/2020/12/DAC_ERT_Covid-Vacine.jpg
END:VEVENT
BEGIN:VEVENT
DTSTART;TZID=America/Detroit:20201201T183000
DTEND;TZID=America/Detroit:20201201T200000
DTSTAMP:20260419T235318
CREATED:20201117T200826Z
LAST-MODIFIED:20201117T200826Z
UID:76504-1606847400-1606852800@detroitdeltas.org
SUMMARY:World AIDS Day
DESCRIPTION:
URL:https://detroitdeltas.org/event/world-aids-day/
LOCATION:Virtual Zoom Meeting\, MI\, United States
CATEGORIES:Public
ATTACH;FMTTYPE=image/png:https://detroitdeltas.org/wp-content/uploads/2020/11/preview-full-World-Aids-Day-2020.png
END:VEVENT
BEGIN:VEVENT
DTSTART;TZID=America/Detroit:20201111T190000
DTEND;TZID=America/Detroit:20201111T210000
DTSTAMP:20260419T235318
CREATED:20201102T034224Z
LAST-MODIFIED:20201108T224950Z
UID:76458-1605121200-1605128400@detroitdeltas.org
SUMMARY:Home for the Holidays: Hopeful Living in Challenging Times
DESCRIPTION:
URL:https://detroitdeltas.org/event/home-for-the-holidays-hopeful-living-in-challenging-times/
LOCATION:Virtual Zoom Meeting\, MI\, United States
CATEGORIES:Physical & Mental Health
ATTACH;FMTTYPE=image/png:https://detroitdeltas.org/wp-content/uploads/2020/11/revised-10pm_Nov-11th_Mental-Health-Event_v4.png
END:VEVENT
END:VCALENDAR